

BEGIN:VCALENDAR
VERSION:2.0
PRODID:-//SVP Schweiz //NONSGML Events //EN
CALSCALE:GREGORIAN
X-WR-CALNAME:SVP Schweiz
BEGIN:VEVENT
CREATED:20210812T142912Z
UID:102786
DTEND:20221127T000000
DTSTART:20221127T000000
DTSTAMP:20260423T135035Z
LOCATION:
DESCRIPTION:
SUMMARY:Eidgenössische Abstimmung
ORGANIZER:
URL;VALUE=URI:https://www.svp.ch/aktuell/termine/eidgenoessische-abstimmung-15/
TRANSP:OPAQUE
END:VEVENT
END:VCALENDAR
