

BEGIN:VCALENDAR
VERSION:2.0
PRODID:-//SVP Schweiz //NONSGML Events //EN
CALSCALE:GREGORIAN
X-WR-CALNAME:SVP Schweiz
BEGIN:VEVENT
CREATED:20220725T072424Z
UID:107773
DTEND:20230607T000000
DTSTART:20230607T000000
DTSTAMP:20260423T111258Z
LOCATION:GL
DESCRIPTION:
SUMMARY:Fraktionsausflug
ORGANIZER:
URL;VALUE=URI:https://www.svp.ch/aktuell/termine/fraktionsausflug-8/
TRANSP:OPAQUE
END:VEVENT
END:VCALENDAR
