

BEGIN:VCALENDAR
VERSION:2.0
PRODID:-//SVP Schweiz //NONSGML Events //EN
CALSCALE:GREGORIAN
X-WR-CALNAME:SVP Schweiz
BEGIN:VEVENT
CREATED:20220725T072430Z
UID:107790
DTEND:20231022T000000
DTSTART:20231022T000000
DTSTAMP:20260420T144133Z
LOCATION:
DESCRIPTION:
SUMMARY:Eidgenössische Wahlen
ORGANIZER:
URL;VALUE=URI:https://www.svp.ch/aktuell/termine/eidgenoessische-wahlen-2/
TRANSP:OPAQUE
END:VEVENT
END:VCALENDAR
