

BEGIN:VCALENDAR
VERSION:2.0
PRODID:-//SVP Schweiz //NONSGML Events //EN
CALSCALE:GREGORIAN
X-WR-CALNAME:SVP Schweiz
BEGIN:VEVENT
CREATED:20220725T072431Z
UID:107794
DTEND:20231124T000000
DTSTART:20231124T000000
DTSTAMP:20260420T072126Z
LOCATION:BE
DESCRIPTION:
SUMMARY:Fraktionspräsidium / Fraktionssitzung
ORGANIZER:
URL;VALUE=URI:https://www.svp.ch/aktuell/termine/fraktionspraesidium-fraktionssitzung-17/
TRANSP:OPAQUE
END:VEVENT
END:VCALENDAR
