

BEGIN:VCALENDAR
VERSION:2.0
PRODID:-//SVP Schweiz //NONSGML Events //EN
CALSCALE:GREGORIAN
X-WR-CALNAME:SVP Schweiz
BEGIN:VEVENT
CREATED:20221212T121702Z
UID:110181
DTEND:20230106T190000
DTSTART:20230106T180000
DTSTAMP:20260422T142038Z
LOCATION:Stadler Rheintal AG\, Neudorfstrasse 8\, 9430 St. Magrethen
DESCRIPTION: Einladung (PDF)
SUMMARY:SVP bi de Lüt mit Nationalrätin Esther Friedli
ORGANIZER:
URL;VALUE=URI:https://www.svp.ch/aktuell/termine/svp-bi-de-luet-mit-nationalraetin-esther-friedli-4/
TRANSP:OPAQUE
END:VEVENT
END:VCALENDAR
