

BEGIN:VCALENDAR
VERSION:2.0
PRODID:-//SVP Schweiz //NONSGML Events //EN
CALSCALE:GREGORIAN
X-WR-CALNAME:SVP Schweiz
BEGIN:VEVENT
CREATED:20221212T153407Z
UID:110293
DTEND:20230126T200000
DTSTART:20230126T193000
DTSTAMP:20260425T155752Z
LOCATION:Freienbach 8807\, Restaurant Ried\, Kantonsstrasse 161
DESCRIPTION:
SUMMARY:SVP bi de Lüt mit Nationalrat Marcel Dettling
ORGANIZER:
URL;VALUE=URI:https://www.svp.ch/aktuell/termine/svp-bi-de-luet-mit-nationalrat-marcel-dettling-2/
TRANSP:OPAQUE
END:VEVENT
END:VCALENDAR
