

BEGIN:VCALENDAR
VERSION:2.0
PRODID:-//SVP Schweiz //NONSGML Events //EN
CALSCALE:GREGORIAN
X-WR-CALNAME:SVP Schweiz
BEGIN:VEVENT
CREATED:20221212T153408Z
UID:110310
DTEND:20230125T190000
DTSTART:20230125T180000
DTSTAMP:20260423T195026Z
LOCATION:Bern 3011\, Hotel Kreuz
DESCRIPTION:
SUMMARY:SVP bi de Lüt mit Nationalrat Erich Hess
ORGANIZER:
URL;VALUE=URI:https://www.svp.ch/aktuell/termine/svp-bi-de-luet-mit-nationalrat-erich-hess-6/
TRANSP:OPAQUE
END:VEVENT
END:VCALENDAR
