

BEGIN:VCALENDAR
VERSION:2.0
PRODID:-//SVP Schweiz //NONSGML Events //EN
CALSCALE:GREGORIAN
X-WR-CALNAME:SVP Schweiz
BEGIN:VEVENT
CREATED:20230124T125105Z
UID:110833
DTEND:20230127T190000
DTSTART:20230127T173000
DTSTAMP:20260424T120407Z
LOCATION:Rathausbrücke\, Stadt Zürich
DESCRIPTION:
SUMMARY:SVP bi de Lüt in Zürich
ORGANIZER:
URL;VALUE=URI:https://www.svp.ch/aktuell/termine/svp-bi-de-luet-in-zuerich/
TRANSP:OPAQUE
END:VEVENT
END:VCALENDAR
