

BEGIN:VCALENDAR
VERSION:2.0
PRODID:-//SVP Schweiz //NONSGML Events //EN
CALSCALE:GREGORIAN
X-WR-CALNAME:SVP Schweiz
BEGIN:VEVENT
CREATED:20230313T114935Z
UID:111663
DTEND:20230321T200000
DTSTART:20230321T190000
DTSTAMP:20260419T143054Z
LOCATION:Berikon\, Hotel Restaurant Stalden
DESCRIPTION:
SUMMARY:SVP bi de Lüt mit Nationalrat Thomas Burgherr zusammen mit Nationalrätin Stefanie Heimgartner
ORGANIZER:
URL;VALUE=URI:https://www.svp.ch/aktuell/termine/svp-bi-de-lu%cc%88t-mit-nationalrat-thomas-burgherr-zusammen-mit-nationalraetin-stefanie-heimgartner/
TRANSP:OPAQUE
END:VEVENT
END:VCALENDAR
