

BEGIN:VCALENDAR
VERSION:2.0
PRODID:-//SVP Schweiz //NONSGML Events //EN
CALSCALE:GREGORIAN
X-WR-CALNAME:SVP Schweiz
BEGIN:VEVENT
CREATED:20230313T114936Z
UID:111666
DTEND:20230403T210000
DTSTART:20230403T200000
DTSTAMP:20260420T131606Z
LOCATION:Berneck\, Gasthaus Brauerei
DESCRIPTION:
SUMMARY:SVP bi de Lüt mit Nationalrat Mike Egger
ORGANIZER:
URL;VALUE=URI:https://www.svp.ch/aktuell/termine/svp-bi-de-lu%cc%88t-mit-nationalrat-mike-egger/
TRANSP:OPAQUE
END:VEVENT
END:VCALENDAR
