

BEGIN:VCALENDAR
VERSION:2.0
PRODID:-//SVP Schweiz //NONSGML Events //EN
CALSCALE:GREGORIAN
X-WR-CALNAME:SVP Schweiz
BEGIN:VEVENT
CREATED:20230313T114937Z
UID:111680
DTEND:20230322T200000
DTSTART:20230322T191500
DTSTAMP:20260422T042140Z
LOCATION:Müllheim\, Festscheune beim Fussballgolf
DESCRIPTION:
SUMMARY:SVP bi de Lüt mit Nationalrätin Verena Herzog zusammen mit Nationalrat Manuel Strupler
ORGANIZER:
URL;VALUE=URI:https://www.svp.ch/aktuell/termine/svp-bi-de-lu%cc%88t-mit-nationalraetin-verena-herzog-zusammen-mit-nationalrat-manuel-strupler/
TRANSP:OPAQUE
END:VEVENT
END:VCALENDAR
