

BEGIN:VCALENDAR
VERSION:2.0
PRODID:-//SVP Schweiz //NONSGML Events //EN
CALSCALE:GREGORIAN
X-WR-CALNAME:SVP Schweiz
BEGIN:VEVENT
CREATED:20230317T033152Z
UID:111792
DTEND:20230330T200000
DTSTART:20230330T193000
DTSTAMP:20260421T033845Z
LOCATION:Restaurant Zunftstube in Brig-Glis
DESCRIPTION:
SUMMARY:SVP bi de Lüt mit Nationalrat Graber
ORGANIZER:
URL;VALUE=URI:https://www.svp.ch/aktuell/termine/svp-bi-de-luet-mit-nationalrat-graber/
TRANSP:OPAQUE
END:VEVENT
END:VCALENDAR
