

BEGIN:VCALENDAR
VERSION:2.0
PRODID:-//SVP Schweiz //NONSGML Events //EN
CALSCALE:GREGORIAN
X-WR-CALNAME:SVP Schweiz
BEGIN:VEVENT
CREATED:20230614T062141Z
UID:114349
DTEND:20230706T210000
DTSTART:20230706T200000
DTSTAMP:20260421T145112Z
LOCATION:Restaurant Kantonsgrenze\, zwischen Herisau/AR und Degersheim/SG
DESCRIPTION:
SUMMARY:SVP bi de Lüt mit Nationalrat David Zuberbühler\, Lukas Reimann und Mike Egger
ORGANIZER:
URL;VALUE=URI:https://www.svp.ch/aktuell/termine/svp-bi-de-luet-mit-nationalrat-david-zuberbu%cc%88hler-lukas-reimann-und-mike-egger/
TRANSP:OPAQUE
END:VEVENT
END:VCALENDAR
