

BEGIN:VCALENDAR
VERSION:2.0
PRODID:-//SVP Schweiz //NONSGML Events //EN
CALSCALE:GREGORIAN
X-WR-CALNAME:SVP Schweiz
BEGIN:VEVENT
CREATED:20230614T062141Z
UID:114351
DTEND:20230707T200000
DTSTART:20230707T190000
DTSTAMP:20260421T144422Z
LOCATION:Restaurant Kleefeld\, Bern-Bümpliz
DESCRIPTION:
SUMMARY:SVP bi de Lüt mit Nationalrat Erich Hess
ORGANIZER:
URL;VALUE=URI:https://www.svp.ch/aktuell/termine/svp-bi-de-luet-mit-nationalrat-erich-hess-7/
TRANSP:OPAQUE
END:VEVENT
END:VCALENDAR
