

BEGIN:VCALENDAR
VERSION:2.0
PRODID:-//SVP Schweiz //NONSGML Events //EN
CALSCALE:GREGORIAN
X-WR-CALNAME:SVP Schweiz
BEGIN:VEVENT
CREATED:20230614T062142Z
UID:114364
DTEND:20230707T180000
DTSTART:20230707T170000
DTSTAMP:20260421T144723Z
LOCATION:Promenade in Davos
DESCRIPTION:
SUMMARY:SVP bi de Lüt mit Nationalrätin Magdalena Martullo-Blocher
ORGANIZER:
URL;VALUE=URI:https://www.svp.ch/aktuell/termine/svp-bi-de-luet-mit-nationalraetin-magdalena-martullo-blocher-7/
TRANSP:OPAQUE
END:VEVENT
END:VCALENDAR
