

BEGIN:VCALENDAR
VERSION:2.0
PRODID:-//SVP Schweiz //NONSGML Events //EN
CALSCALE:GREGORIAN
X-WR-CALNAME:SVP Schweiz
BEGIN:VEVENT
CREATED:20230818T073741Z
UID:119779
DTEND:20240816T000000
DTSTART:20240816T000000
DTSTAMP:20260421T113305Z
LOCATION:Brig VS
DESCRIPTION:
SUMMARY:Parteileitung / Parteivorstand 
ORGANIZER:
URL;VALUE=URI:https://www.svp.ch/aktuell/termine/parteileitung-parteivorstand-11/
TRANSP:OPAQUE
END:VEVENT
END:VCALENDAR
