

BEGIN:VCALENDAR
VERSION:2.0
PRODID:-//SVP Schweiz //NONSGML Events //EN
CALSCALE:GREGORIAN
X-WR-CALNAME:SVP Schweiz
BEGIN:VEVENT
CREATED:20230818T073743Z
UID:119798
DTEND:20240528T000000
DTSTART:20240528T000000
DTSTAMP:20260421T230904Z
LOCATION:
DESCRIPTION:
SUMMARY:Fraktionssitzung 
ORGANIZER:
URL;VALUE=URI:https://www.svp.ch/aktuell/termine/fraktionssitzung-66/
TRANSP:OPAQUE
END:VEVENT
END:VCALENDAR
