

BEGIN:VCALENDAR
VERSION:2.0
PRODID:-//SVP Schweiz //NONSGML Events //EN
CALSCALE:GREGORIAN
X-WR-CALNAME:SVP Schweiz
BEGIN:VEVENT
CREATED:20230818T073744Z
UID:119813
DTEND:20240830T000000
DTSTART:20240830T000000
DTSTAMP:20260421T232923Z
LOCATION:
DESCRIPTION:
SUMMARY:Fraktionspräsidium
ORGANIZER:
URL;VALUE=URI:https://www.svp.ch/aktuell/termine/fraktionspraesidium-3/
TRANSP:OPAQUE
END:VEVENT
END:VCALENDAR
