

BEGIN:VCALENDAR
VERSION:2.0
PRODID:-//SVP Schweiz //NONSGML Events //EN
CALSCALE:GREGORIAN
X-WR-CALNAME:SVP Schweiz
BEGIN:VEVENT
CREATED:20231029T011513Z
UID:120462
DTEND:20231029T001500
DTSTART:20230921T000000
DTSTAMP:20260419T215158Z
LOCATION:Affolter Transporte AG\, Bundkofen 488\, 3054 Schüpfen
DESCRIPTION:SVP Schüpfen &#8211; Wahlanlass
SUMMARY:SVP BE: SVP Schüpfen &#8211\; Wahlanlass
ORGANIZER:
URL;VALUE=URI:https://www.svp.ch/aktuell/termine/svp-be-svp-schuepfen-wahlanlass/
TRANSP:OPAQUE
END:VEVENT
END:VCALENDAR
