

BEGIN:VCALENDAR
VERSION:2.0
PRODID:-//SVP Schweiz //NONSGML Events //EN
CALSCALE:GREGORIAN
X-WR-CALNAME:SVP Schweiz
BEGIN:VEVENT
CREATED:20231029T011515Z
UID:120490
DTEND:20231029T001500
DTSTART:20230917T093000
DTSTAMP:20260422T170953Z
LOCATION:Bauernhaus Bienzgut (neben der Kirche)\, Bernstrasse 77\, Bern
DESCRIPTION:SVP Stadt Bern &#8211; Traditionelles Burezmorge
SUMMARY:SVP BE: SVP Stadt Bern &#8211\; Traditionelles Burezmorge
ORGANIZER:
URL;VALUE=URI:https://www.svp.ch/aktuell/termine/svp-be-svp-stadt-bern-traditionelles-burezmorge/
TRANSP:OPAQUE
END:VEVENT
END:VCALENDAR
