

BEGIN:VCALENDAR
VERSION:2.0
PRODID:-//SVP Schweiz //NONSGML Events //EN
CALSCALE:GREGORIAN
X-WR-CALNAME:SVP Schweiz
BEGIN:VEVENT
CREATED:20231029T011517Z
UID:120511
DTEND:20231029T001500
DTSTART:20231115T000000
DTSTAMP:20260420T063927Z
LOCATION:Rathaus\, Basel
DESCRIPTION:Grosser Rat
SUMMARY:SVP BS: Grosser Rat
ORGANIZER:
URL;VALUE=URI:https://www.svp.ch/aktuell/termine/svp-bs-grosser-rat-21/
TRANSP:OPAQUE
END:VEVENT
END:VCALENDAR
