

BEGIN:VCALENDAR
VERSION:2.0
PRODID:-//SVP Schweiz //NONSGML Events //EN
CALSCALE:GREGORIAN
X-WR-CALNAME:SVP Schweiz
BEGIN:VEVENT
CREATED:20231029T011518Z
UID:120532
DTEND:20231029T001500
DTSTART:20231122T000000
DTSTAMP:20260422T043217Z
LOCATION:
DESCRIPTION:Einwohnerrat Riehen
SUMMARY:SVP BS: Einwohnerrat Riehen
ORGANIZER:
URL;VALUE=URI:https://www.svp.ch/aktuell/termine/svp-bs-einwohnerrat-riehen-12/
TRANSP:OPAQUE
END:VEVENT
END:VCALENDAR
