

BEGIN:VCALENDAR
VERSION:2.0
PRODID:-//SVP Schweiz //NONSGML Events //EN
CALSCALE:GREGORIAN
X-WR-CALNAME:SVP Schweiz
BEGIN:VEVENT
CREATED:20231029T011524Z
UID:120612
DTEND:20231029T001500
DTSTART:20231022T000000
DTSTAMP:20260420T145335Z
LOCATION:Schweiz
DESCRIPTION:Eidgenössische Wahlen 2023
SUMMARY:SVP OW: Eidgenössische Wahlen 2023
ORGANIZER:
URL;VALUE=URI:https://www.svp.ch/aktuell/termine/svp-ow-eidgenoessische-wahlen-2023/
TRANSP:OPAQUE
END:VEVENT
END:VCALENDAR
