

BEGIN:VCALENDAR
VERSION:2.0
PRODID:-//SVP Schweiz //NONSGML Events //EN
CALSCALE:GREGORIAN
X-WR-CALNAME:SVP Schweiz
BEGIN:VEVENT
CREATED:20231029T011525Z
UID:120630
DTEND:20231029T001500
DTSTART:20231025T000000
DTSTAMP:20260420T110619Z
LOCATION:
DESCRIPTION:Session Schwyzer Kantonsrat
SUMMARY:SVP SZ: Session Schwyzer Kantonsrat
ORGANIZER:
URL;VALUE=URI:https://www.svp.ch/aktuell/termine/svp-sz-session-schwyzer-kantonsrat-7/
TRANSP:OPAQUE
END:VEVENT
END:VCALENDAR
