

BEGIN:VCALENDAR
VERSION:2.0
PRODID:-//SVP Schweiz //NONSGML Events //EN
CALSCALE:GREGORIAN
X-WR-CALNAME:SVP Schweiz
BEGIN:VEVENT
CREATED:20231029T011530Z
UID:121472
DTEND:20231029T001500
DTSTART:20230922T180000
DTSTAMP:20260424T000609Z
LOCATION:Viktor Meili AG\, Schübelbach
DESCRIPTION:
SUMMARY:SVP SZ: SVP Bi DE LÜT – SVP Schübelbach Fyrobig Bier mit Grill
ORGANIZER:
URL;VALUE=URI:https://www.svp.ch/aktuell/termine/svp-sz-svp-bi-de-luet-svp-schuebelbach-fyrobig-bier-mit-grill/
TRANSP:OPAQUE
END:VEVENT
END:VCALENDAR
