

BEGIN:VCALENDAR
VERSION:2.0
PRODID:-//SVP Schweiz //NONSGML Events //EN
CALSCALE:GREGORIAN
X-WR-CALNAME:SVP Schweiz
BEGIN:VEVENT
CREATED:20230913T121430Z
UID:122793
DTEND:20230923T120000
DTSTART:20230923T080000
DTSTAMP:20260420T192333Z
LOCATION:Fronwagplatz\, Schaffhausen
DESCRIPTION:
SUMMARY:SVP SH: SVP Bi DE LÜT &#8211\; Standaktion
ORGANIZER:
URL;VALUE=URI:https://www.svp.ch/aktuell/termine/svp-sh-svp-bi-de-luet-standaktion/
TRANSP:OPAQUE
END:VEVENT
END:VCALENDAR
