

BEGIN:VCALENDAR
VERSION:2.0
PRODID:-//SVP Schweiz //NONSGML Events //EN
CALSCALE:GREGORIAN
X-WR-CALNAME:SVP Schweiz
BEGIN:VEVENT
CREATED:20231029T011539Z
UID:122954
DTEND:20231029T001500
DTSTART:20231116T180000
DTSTAMP:20260420T062527Z
LOCATION:Stadt Luzern
DESCRIPTION:Grossstadtratssitzung Luzern
SUMMARY:SVP LU: Grossstadtratssitzung Luzern
ORGANIZER:
URL;VALUE=URI:https://www.svp.ch/aktuell/termine/svp-lu-grossstadtratssitzung-luzern-11/
TRANSP:OPAQUE
END:VEVENT
END:VCALENDAR
