

BEGIN:VCALENDAR
VERSION:2.0
PRODID:-//SVP Schweiz //NONSGML Events //EN
CALSCALE:GREGORIAN
X-WR-CALNAME:SVP Schweiz
BEGIN:VEVENT
CREATED:20230919T093036Z
UID:123171
DTEND:20230926T210000
DTSTART:20230926T200000
DTSTAMP:20260425T012238Z
LOCATION:Hotel Landhaus\, Saanen
DESCRIPTION:
SUMMARY:SVP bi de Lüt mit Nationalrat Erich von Siebenthal und Ständerat Werner Salzmann
ORGANIZER:
URL;VALUE=URI:https://www.svp.ch/aktuell/termine/svp-bi-de-luet-mit-nationalrat-erich-von-siebenthal-und-staenderat-werner-salzmann/
TRANSP:OPAQUE
END:VEVENT
END:VCALENDAR
