

BEGIN:VCALENDAR
VERSION:2.0
PRODID:-//SVP Schweiz //NONSGML Events //EN
CALSCALE:GREGORIAN
X-WR-CALNAME:SVP Schweiz
BEGIN:VEVENT
CREATED:20230919T093037Z
UID:123178
DTEND:20230923T160000
DTSTART:20230923T153000
DTSTAMP:20260420T192559Z
LOCATION:Im Rebberg\, Binningen
DESCRIPTION:
SUMMARY:SVP bi de Lüt mit Nationalrätin Sandra Sollberger und Nationalrat Thomas de Courten
ORGANIZER:
URL;VALUE=URI:https://www.svp.ch/aktuell/termine/svp-bi-de-luet-mit-nationalraetin-sandra-sollberger-und-nationalrat-thomas-de-courten-2/
TRANSP:OPAQUE
END:VEVENT
END:VCALENDAR
