

BEGIN:VCALENDAR
VERSION:2.0
PRODID:-//SVP Schweiz //NONSGML Events //EN
CALSCALE:GREGORIAN
X-WR-CALNAME:SVP Schweiz
BEGIN:VEVENT
CREATED:20230919T093039Z
UID:123212
DTEND:20230923T130000
DTSTART:20230923T120000
DTSTAMP:20260420T191932Z
LOCATION:Eberhard Bau AG\, Oberglatt
DESCRIPTION:
SUMMARY:SVP bi de Lüt mit Nationalrätin Barbara Steinemann
ORGANIZER:
URL;VALUE=URI:https://www.svp.ch/aktuell/termine/svp-bi-de-luet-mit-nationalraetin-barbara-steinemann-6/
TRANSP:OPAQUE
END:VEVENT
END:VCALENDAR
