

BEGIN:VCALENDAR
VERSION:2.0
PRODID:-//SVP Schweiz //NONSGML Events //EN
CALSCALE:GREGORIAN
X-WR-CALNAME:SVP Schweiz
BEGIN:VEVENT
CREATED:20231029T011545Z
UID:123693
DTEND:20231029T001500
DTSTART:20231022T130000
DTSTAMP:20260420T145335Z
LOCATION:Rest. Jungfrau-Aletsch\, Naters
DESCRIPTION:Wahltreff
SUMMARY:SVP VS: Wahltreff
ORGANIZER:
URL;VALUE=URI:https://www.svp.ch/aktuell/termine/svp-vs-wahltreff/
TRANSP:OPAQUE
END:VEVENT
END:VCALENDAR
