

BEGIN:VCALENDAR
VERSION:2.0
PRODID:-//SVP Schweiz //NONSGML Events //EN
CALSCALE:GREGORIAN
X-WR-CALNAME:SVP Schweiz
BEGIN:VEVENT
CREATED:20231029T011545Z
UID:123990
DTEND:20231029T001500
DTSTART:20231024T200000
DTSTAMP:20260420T110957Z
LOCATION:Restaurant Pyramide\, Samstagernstrasse 41\, 8832 Wollerau
DESCRIPTION:Parteiversammlung
SUMMARY:SVP SZ: Parteiversammlung
ORGANIZER:
URL;VALUE=URI:https://www.svp.ch/aktuell/termine/svp-sz-parteiversammlung/
TRANSP:OPAQUE
END:VEVENT
END:VCALENDAR
