

BEGIN:VCALENDAR
VERSION:2.0
PRODID:-//SVP Schweiz //NONSGML Events //EN
CALSCALE:GREGORIAN
X-WR-CALNAME:SVP Schweiz
BEGIN:VEVENT
CREATED:20240307T110613Z
UID:128016
DTEND:20240410T200000
DTSTART:20240410T193000
DTSTAMP:20260423T200609Z
LOCATION:Susannes Beizli\, Oberembrach
DESCRIPTION:SVP bi de Lüt mit Nationalrat Alfred Heer
SUMMARY:SVP bi de Lüt mit Nationalrat Alfred Heer
ORGANIZER:
URL;VALUE=URI:https://www.svp.ch/aktuell/termine/svp-bi-de-luet-mit-nationalrat-alfred-heer-8/
TRANSP:OPAQUE
END:VEVENT
END:VCALENDAR
