

BEGIN:VCALENDAR
VERSION:2.0
PRODID:-//SVP Schweiz //NONSGML Events //EN
CALSCALE:GREGORIAN
X-WR-CALNAME:SVP Schweiz
BEGIN:VEVENT
CREATED:20240314T143334Z
UID:128177
DTEND:20240322T180000
DTSTART:20240322T173000
DTSTAMP:20260421T164529Z
LOCATION:Restaurant Bären\, St. Urbanstrasse 1\, 4900 Langenthal
DESCRIPTION:
SUMMARY:SVP bi de Lüt von SVP Langenthal und SVP Kanton Bern
ORGANIZER:
URL;VALUE=URI:https://www.svp.ch/aktuell/termine/svp-bi-de-luet-von-svp-langenthal-und-svp-kanton-bern/
TRANSP:OPAQUE
END:VEVENT
END:VCALENDAR
