

BEGIN:VCALENDAR
VERSION:2.0
PRODID:-//SVP Schweiz //NONSGML Events //EN
CALSCALE:GREGORIAN
X-WR-CALNAME:SVP Schweiz
BEGIN:VEVENT
CREATED:20240605T080518Z
UID:129528
DTEND:20240625T200000
DTSTART:20240625T190000
DTSTAMP:20260422T212132Z
LOCATION:Ref. Kirchgemeindehaus\, Zollikon
DESCRIPTION:
SUMMARY:SVP bi de Lüt mit Nationalrat Gregor Rutz
ORGANIZER:
URL;VALUE=URI:https://www.svp.ch/aktuell/termine/svp-bi-de-luet-mit-nationalrat-gregor-rutz-15/
TRANSP:OPAQUE
END:VEVENT
END:VCALENDAR
