

BEGIN:VCALENDAR
VERSION:2.0
PRODID:-//SVP Schweiz //NONSGML Events //EN
CALSCALE:GREGORIAN
X-WR-CALNAME:SVP Schweiz
BEGIN:VEVENT
CREATED:20240923T080419Z
UID:130906
DTEND:20241002T210000
DTSTART:20241002T200000
DTSTAMP:20260419T223534Z
LOCATION:Restaurant Adler\, 3132 Riggisberg
DESCRIPTION:
SUMMARY:SVP bi de Lüt mit Nationalrat Hans Jörg Rüegsegger mit Grossrat Reto Zbinden\, SVP\, Mittelhäusern
ORGANIZER:
URL;VALUE=URI:https://www.svp.ch/aktuell/termine/svp-bi-de-luet-mit-nationalrat-hans-joerg-rueegsegger-mit-grossrat-reto-zbinden-svp-mittelhaeusern/
TRANSP:OPAQUE
END:VEVENT
END:VCALENDAR
