

BEGIN:VCALENDAR
VERSION:2.0
PRODID:-//SVP Schweiz //NONSGML Events //EN
CALSCALE:GREGORIAN
X-WR-CALNAME:SVP Schweiz
BEGIN:VEVENT
CREATED:20241031T055009Z
UID:131554
DTEND:20250311T000000
DTSTART:20250311T000000
DTSTAMP:20260424T061035Z
LOCATION:
DESCRIPTION:
SUMMARY:Fraktionssitzung
ORGANIZER:
URL;VALUE=URI:https://www.svp.ch/aktuell/termine/fraktionssitzung-82/
TRANSP:OPAQUE
END:VEVENT
END:VCALENDAR
