

BEGIN:VCALENDAR
VERSION:2.0
PRODID:-//SVP Schweiz //NONSGML Events //EN
CALSCALE:GREGORIAN
X-WR-CALNAME:SVP Schweiz
BEGIN:VEVENT
CREATED:20241031T055010Z
UID:131558
DTEND:20250524T000000
DTSTART:20250524T000000
DTSTAMP:20260425T132713Z
LOCATION:
DESCRIPTION:
SUMMARY:Fraktionssitzung
ORGANIZER:
URL;VALUE=URI:https://www.svp.ch/aktuell/termine/fraktionssitzung-86/
TRANSP:OPAQUE
END:VEVENT
END:VCALENDAR
