

BEGIN:VCALENDAR
VERSION:2.0
PRODID:-//SVP Schweiz //NONSGML Events //EN
CALSCALE:GREGORIAN
X-WR-CALNAME:SVP Schweiz
BEGIN:VEVENT
CREATED:20241213T143944Z
UID:132030
DTEND:20250109T213000
DTSTART:20250109T193000
DTSTAMP:20260420T080530Z
LOCATION:Hotel Restaurant Seehof\, Bahnhofstrasse 1\, 8716 Schmerikon
DESCRIPTION: &nbsp;
SUMMARY:Neujahrsapéro der SVP Kreispartei See-Gaster mit Nationalrat Walter Gartmann
ORGANIZER:
URL;VALUE=URI:https://www.svp.ch/aktuell/termine/neujahrsapero-der-svp-kreispartei-see-gaster-mit-nationalrat-walter-gartmann/
TRANSP:OPAQUE
END:VEVENT
END:VCALENDAR
