

BEGIN:VCALENDAR
VERSION:2.0
PRODID:-//SVP Schweiz //NONSGML Events //EN
CALSCALE:GREGORIAN
X-WR-CALNAME:SVP Schweiz
BEGIN:VEVENT
CREATED:20241216T081424Z
UID:132052
DTEND:20250114T190000
DTSTART:20250114T180000
DTSTAMP:20260423T091238Z
LOCATION:Murgstrasse 21\, 9545 Wängi
DESCRIPTION:
SUMMARY:SVP Bi de Lüt mit Nationalrätin Diana Gutjahr und Ständerat Jakob Stark
ORGANIZER:
URL;VALUE=URI:https://www.svp.ch/aktuell/termine/svp-bi-de-luet-mit-nationalraetin-diana-gutjahr-und-staenderat-jakob-stark/
TRANSP:OPAQUE
END:VEVENT
END:VCALENDAR
