

BEGIN:VCALENDAR
VERSION:2.0
PRODID:-//SVP Schweiz //NONSGML Events //EN
CALSCALE:GREGORIAN
X-WR-CALNAME:SVP Schweiz
BEGIN:VEVENT
CREATED:20241216T081424Z
UID:132054
DTEND:20250118T150000
DTSTART:20250118T140000
DTSTAMP:20260426T033433Z
LOCATION:Hotel Placid\, 8048 Zürich
DESCRIPTION:
SUMMARY:SVP Bi de Lüt mit Nationalrat Alfred Heer
ORGANIZER:
URL;VALUE=URI:https://www.svp.ch/aktuell/termine/svp-bi-de-luet-mit-nationalrat-alfred-heer-13/
TRANSP:OPAQUE
END:VEVENT
END:VCALENDAR
