

BEGIN:VCALENDAR
VERSION:2.0
PRODID:-//SVP Schweiz //NONSGML Events //EN
CALSCALE:GREGORIAN
X-WR-CALNAME:SVP Schweiz
BEGIN:VEVENT
CREATED:20241216T081425Z
UID:132061
DTEND:20250131T190000
DTSTART:20250131T180000
DTSTAMP:20260422T190554Z
LOCATION:Weinbau Heiri Bolleter\, 8706 Meilen
DESCRIPTION:
SUMMARY:SVP Bi de Lüt mit Nationalrat Thomas Matter
ORGANIZER:
URL;VALUE=URI:https://www.svp.ch/aktuell/termine/svp-bi-de-luet-mit-nationalrat-thomas-matter-18/
TRANSP:OPAQUE
END:VEVENT
END:VCALENDAR
