

BEGIN:VCALENDAR
VERSION:2.0
PRODID:-//SVP Schweiz //NONSGML Events //EN
CALSCALE:GREGORIAN
X-WR-CALNAME:SVP Schweiz
BEGIN:VEVENT
CREATED:20241216T081425Z
UID:132063
DTEND:20250124T200000
DTSTART:20250124T190000
DTSTAMP:20260425T001548Z
LOCATION:Payerneland Karting\, 1530 Payerne
DESCRIPTION:
SUMMARY:SVP Bi de Lüt mit Nationalrat Yvan Pahud
ORGANIZER:
URL;VALUE=URI:https://www.svp.ch/aktuell/termine/svp-bi-de-luet-mit-nationalrat-yvan-pahud/
TRANSP:OPAQUE
END:VEVENT
END:VCALENDAR
