

BEGIN:VCALENDAR
VERSION:2.0
PRODID:-//SVP Schweiz //NONSGML Events //EN
CALSCALE:GREGORIAN
X-WR-CALNAME:SVP Schweiz
BEGIN:VEVENT
CREATED:20241216T081426Z
UID:132073
DTEND:20250112T100000
DTSTART:20250112T093000
DTSTAMP:20260421T130933Z
LOCATION:Restaurant Isebähnli\, 4632 Trimbach
DESCRIPTION:
SUMMARY:SVP Bi de Lüt mit Nationalrat Rémy Wyssmann
ORGANIZER:
URL;VALUE=URI:https://www.svp.ch/aktuell/termine/svp-bi-de-luet-mit-nationalrat-remy-wyssmann/
TRANSP:OPAQUE
END:VEVENT
END:VCALENDAR
