

BEGIN:VCALENDAR
VERSION:2.0
PRODID:-//SVP Schweiz //NONSGML Events //EN
CALSCALE:GREGORIAN
X-WR-CALNAME:SVP Schweiz
BEGIN:VEVENT
CREATED:20251202T061653Z
UID:191254
DTEND:20260124T170000
DTSTART:20260124T100000
DTSTAMP:20260420T110618Z
LOCATION:Lintharena AG\, Oberurnerstrasse 14\, 8752 Näfels (GL)
DESCRIPTION:
SUMMARY:Delegiertenversammlung der SVP Schweiz vom 24. Januar 2026
ORGANIZER:SVP CH
URL;VALUE=URI:https://www.svp.ch/aktuell/termine/delegiertenversammlung-der-svp-schweiz-vom-24-januar-2026/
TRANSP:OPAQUE
END:VEVENT
END:VCALENDAR
