

BEGIN:VCALENDAR
VERSION:2.0
PRODID:-//SVP Schweiz //NONSGML Events //EN
CALSCALE:GREGORIAN
X-WR-CALNAME:SVP Schweiz
BEGIN:VEVENT
CREATED:20141006T080800Z
UID:73886
DTEND:20150310T000000
DTSTART:20150310T000000
DTSTAMP:20260424T112541Z
LOCATION:Bern
DESCRIPTION:
SUMMARY:Fraktionsvorstand / Fraktionssitzung
ORGANIZER:
URL;VALUE=URI:https://www.svp.ch/aktuell/termine/fraktionsvorstand-fraktionssitzung/
TRANSP:OPAQUE
END:VEVENT
END:VCALENDAR
