

BEGIN:VCALENDAR
VERSION:2.0
PRODID:-//SVP Schweiz //NONSGML Events //EN
CALSCALE:GREGORIAN
X-WR-CALNAME:SVP Schweiz
BEGIN:VEVENT
CREATED:20141006T080300Z
UID:73951
DTEND:20150221T000000
DTSTART:20150221T000000
DTSTAMP:20260424T072717Z
LOCATION:Herisau AR
DESCRIPTION:
SUMMARY:Fraktionssitzung in Herisau (AR)
ORGANIZER:
URL;VALUE=URI:https://www.svp.ch/aktuell/termine/fraktionssitzung-in-herisau-ar/
TRANSP:OPAQUE
END:VEVENT
END:VCALENDAR
