

BEGIN:VCALENDAR
VERSION:2.0
PRODID:-//SVP Schweiz //NONSGML Events //EN
CALSCALE:GREGORIAN
X-WR-CALNAME:SVP Schweiz
BEGIN:VEVENT
CREATED:20151109T141700Z
UID:74080
DTEND:20160220T000000
DTSTART:20160220T000000
DTSTAMP:20260424T072941Z
LOCATION:
DESCRIPTION:Jetzt online f&uuml;r den SVP-Jasscup vom 20. Februar 2016 in Seedorf 
SUMMARY:Jasscup
ORGANIZER:
URL;VALUE=URI:https://www.svp.ch/aktuell/termine/jasscup/
TRANSP:OPAQUE
END:VEVENT
END:VCALENDAR
