

BEGIN:VCALENDAR
VERSION:2.0
PRODID:-//SVP Schweiz //NONSGML Events //EN
CALSCALE:GREGORIAN
X-WR-CALNAME:SVP Schweiz
BEGIN:VEVENT
CREATED:20170310T103810Z
UID:74243
DTEND:20170311T000000
DTSTART:20170311T000000
DTSTAMP:20260424T231823Z
LOCATION:Landgasthof Schönbühl\, alte Bernstrasse 11\, 3322 Urtenen-Schönbühl
DESCRIPTION:
SUMMARY:Sessionsrückblick
ORGANIZER:
URL;VALUE=URI:https://www.svp.ch/aktuell/termine/sessionsrueckblick-58/
TRANSP:OPAQUE
END:VEVENT
END:VCALENDAR
