

BEGIN:VCALENDAR
VERSION:2.0
PRODID:-//SVP Schweiz //NONSGML Events //EN
CALSCALE:GREGORIAN
X-WR-CALNAME:SVP Schweiz
BEGIN:VEVENT
CREATED:20170915T123940Z
UID:79552
DTEND:20180304T000000
DTSTART:20180304T000000
DTSTAMP:20260420T132726Z
LOCATION:
DESCRIPTION:
SUMMARY:Eidgenössische Abstimmungen vom 4. März 2018
ORGANIZER:
URL;VALUE=URI:https://www.svp.ch/aktuell/termine/eidgenoessische-abstimmungen/
TRANSP:OPAQUE
END:VEVENT
END:VCALENDAR
